BEGIN:VCALENDAR
VERSION:2.0
PRODID:-//Contratero//ES
CALSCALE:GREGORIAN
METHOD:PUBLISH
BEGIN:VEVENT
UID:CONTR 2022/19337@contratero.es
DTSTAMP:20260422T133206Z
DTSTART:20230124T235959
DTEND:20230125T005959
SUMMARY:Cierre: Servicio de recogida de datos (aplicación\, gestión
DESCRIPTION:Servicio de recogida de datos (aplicación\, gestión de datos y codificación) para el estudio TIMSS 2023 en la ampliación de muestra de la Comunidad Autónoma de las Illes Balears.\\n\\nOrganismo: Consejería de Educación y Formación Profesional\\n\\nVer en Contratero: https://contratero.es/contracts/CONTR 2022/19337
URL:https://contratero.es/contracts/CONTR 2022/19337
STATUS:CONFIRMED
BEGIN:VALARM
TRIGGER:-P1D
ACTION:DISPLAY
DESCRIPTION:Recordatorio: Servicio de recogida de datos 
END:VALARM
END:VEVENT
END:VCALENDAR